Package: pvca Version: 1.49.0 Command: /home/biocbuild/bbs-3.22-bioc/R/bin/R CMD INSTALL pvca StartedAt: 2025-10-08 15:24:00 -0400 (Wed, 08 Oct 2025) EndedAt: 2025-10-08 15:24:10 -0400 (Wed, 08 Oct 2025) EllapsedTime: 10.5 seconds RetCode: 0 Status: OK