Package: pvca Version: 1.49.0 Command: /home/biocbuild/bbs-3.22-bioc/R/bin/R CMD build --keep-empty-dirs --no-resave-data --md5 pvca StartedAt: 2025-10-07 19:29:29 -0400 (Tue, 07 Oct 2025) EndedAt: 2025-10-07 19:29:50 -0400 (Tue, 07 Oct 2025) EllapsedTime: 21.0 seconds RetCode: 0 Status: OK PackageFile: pvca_1.49.0.tar.gz PackageFileSize: 218.9 KiB