Package: pvac Version: 1.57.0 Command: /home/biocbuild/R/R/bin/R CMD build --keep-empty-dirs --no-resave-data pvac StartedAt: 2025-10-17 03:43:01 -0000 (Fri, 17 Oct 2025) EndedAt: 2025-10-17 03:43:59 -0000 (Fri, 17 Oct 2025) EllapsedTime: 58.0 seconds RetCode: 0 Status: OK PackageFile: pvac_1.57.0.tar.gz PackageFileSize: 252.2 KiB