Package: pvac Version: 1.55.0 Command: chmod a+r pvac -R && E:\biocbuild\bbs-3.21-bioc\R\bin\R.exe CMD build --keep-empty-dirs --no-resave-data pvac StartedAt: 2025-02-14 20:55:39 -0500 (Fri, 14 Feb 2025) EndedAt: 2025-02-14 20:56:37 -0500 (Fri, 14 Feb 2025) EllapsedTime: 58.0 seconds RetCode: 0 Status: OK PackageFile: pvac_1.55.0.tar.gz PackageFileSize: 129.5 KiB