Package: puma Version: 3.51.0 Command: /home/biocbuild/bbs-3.22-bioc/R/bin/R CMD INSTALL puma StartedAt: 2025-10-15 15:21:19 -0400 (Wed, 15 Oct 2025) EndedAt: 2025-10-15 15:22:02 -0400 (Wed, 15 Oct 2025) EllapsedTime: 42.3 seconds RetCode: 0 Status: OK