Package: puma Version: 3.51.0 Command: /home/biocbuild/bbs-3.22-bioc/R/bin/R CMD build --keep-empty-dirs --no-resave-data --md5 puma StartedAt: 2025-10-15 19:34:27 -0400 (Wed, 15 Oct 2025) EndedAt: 2025-10-15 19:35:48 -0400 (Wed, 15 Oct 2025) EllapsedTime: 81.1 seconds RetCode: 0 Status: OK PackageFile: puma_3.51.0.tar.gz PackageFileSize: 3.41 MiB