Package: puma Version: 3.51.0 Command: rm -rf puma.buildbin-libdir && mkdir puma.buildbin-libdir && /Users/biocbuild/BBS/utils/build-universal.sh puma_3.51.0.tar.gz /Library/Frameworks/R.framework/Resources/bin/R puma.buildbin-libdir StartedAt: 2025-10-15 03:01:28 -0400 (Wed, 15 Oct 2025) EndedAt: 2025-10-15 03:02:34 -0400 (Wed, 15 Oct 2025) EllapsedTime: 66.1 seconds RetCode: 0 Status: OK PackageFile: puma_3.51.0.tgz PackageFileSize: 4.116 MiB