Package: ptairMS Version: 1.15.0 Command: /Library/Frameworks/R.framework/Resources/bin/R CMD check --install=check:ptairMS.install-out.txt --library=/Library/Frameworks/R.framework/Resources/library --no-vignettes --timings ptairMS_1.15.0.tar.gz StartedAt: 2025-02-16 22:23:45 -0500 (Sun, 16 Feb 2025) EndedAt: 2025-02-16 22:32:42 -0500 (Sun, 16 Feb 2025) EllapsedTime: 537.7 seconds RetCode: 0 Status: WARNINGS CheckDir: ptairMS.Rcheck Warnings: 2