Package: ptairMS Version: 1.15.0 Command: /home/biocbuild/R/R/bin/R CMD INSTALL ptairMS StartedAt: 2025-01-29 20:33:36 -0000 (Wed, 29 Jan 2025) EndedAt: 2025-01-29 20:34:06 -0000 (Wed, 29 Jan 2025) EllapsedTime: 30.8 seconds RetCode: 0 Status: OK