Package: ptairMS Version: 1.15.0 Command: /home/biocbuild/R/R/bin/R CMD build --keep-empty-dirs --no-resave-data ptairMS StartedAt: 2025-01-29 01:24:15 -0000 (Wed, 29 Jan 2025) EndedAt: 2025-01-29 01:28:45 -0000 (Wed, 29 Jan 2025) EllapsedTime: 270.2 seconds RetCode: 0 Status: OK PackageFile: ptairMS_1.15.0.tar.gz PackageFileSize: 2.385 MiB