Package: psygenet2r Version: 1.37.1 Command: /home/biocbuild/bbs-3.21-bioc/R/bin/R CMD INSTALL psygenet2r StartedAt: 2024-10-24 03:31:35 -0400 (Thu, 24 Oct 2024) EndedAt: 2024-10-24 03:31:35 -0400 (Thu, 24 Oct 2024) EllapsedTime: 0.7 seconds RetCode: 1 Status: ERROR