Package: psichomics Version: 1.35.0 Command: chmod a+r psichomics -R && F:\biocbuild\bbs-3.22-bioc\R\bin\R.exe CMD build --keep-empty-dirs --no-resave-data psichomics StartedAt: 2025-08-14 22:29:28 -0400 (Thu, 14 Aug 2025) EndedAt: 2025-08-14 22:33:51 -0400 (Thu, 14 Aug 2025) EllapsedTime: 262.9 seconds RetCode: 0 Status: OK PackageFile: psichomics_1.35.0.tar.gz PackageFileSize: 6.042 MiB