Package: psichomics Version: 1.35.0 Maintainer: Nuno Saraiva-Agostinho MaintainerEmail: nunodanielagostinho at gmail.com git_url: https://git.bioconductor.org/packages/psichomics git_branch: devel git_last_commit: bfacab9 git_last_commit_date: 2025-04-15 11:06:18 -0400 (Tue, 15 Apr 2025)