Package: protGear Version: 1.13.0 Command: chmod a+r protGear -R && F:\biocbuild\bbs-3.22-bioc\R\bin\R.exe CMD build --keep-empty-dirs --no-resave-data protGear StartedAt: 2025-08-14 22:29:25 -0400 (Thu, 14 Aug 2025) EndedAt: 2025-08-14 22:31:15 -0400 (Thu, 14 Aug 2025) EllapsedTime: 110.7 seconds RetCode: 0 Status: OK PackageFile: protGear_1.13.0.tar.gz PackageFileSize: 2.931 MiB