Package: protGear Version: 1.13.0 Command: rm -rf protGear.buildbin-libdir && mkdir protGear.buildbin-libdir && F:\biocbuild\bbs-3.22-bioc\R\bin\R.exe CMD INSTALL --build --library=protGear.buildbin-libdir protGear_1.13.0.tar.gz StartedAt: 2025-08-15 11:00:35 -0400 (Fri, 15 Aug 2025) EndedAt: 2025-08-15 11:01:24 -0400 (Fri, 15 Aug 2025) EllapsedTime: 49.8 seconds RetCode: 0 Status: OK PackageFile: protGear_1.13.0.zip PackageFileSize: 1.831 MiB