Package: projectR Version: 1.25.0 Command: /home/biocbuild/R/R/bin/R CMD INSTALL projectR StartedAt: 2025-10-20 20:34:19 -0000 (Mon, 20 Oct 2025) EndedAt: 2025-10-20 20:35:05 -0000 (Mon, 20 Oct 2025) EllapsedTime: 45.3 seconds RetCode: 0 Status: OK