Package: projectR Version: 1.25.0 Command: /home/biocbuild/R/R/bin/R CMD build --keep-empty-dirs --no-resave-data projectR StartedAt: 2025-10-21 02:09:56 -0000 (Tue, 21 Oct 2025) EndedAt: 2025-10-21 02:12:37 -0000 (Tue, 21 Oct 2025) EllapsedTime: 161.1 seconds RetCode: 0 Status: OK PackageFile: projectR_1.25.0.tar.gz PackageFileSize: 5.221 MiB