Package: profileplyr Version: 1.23.0 Command: /home/biocbuild/R/R/bin/R CMD build --keep-empty-dirs --no-resave-data profileplyr StartedAt: 2025-01-29 01:22:40 -0000 (Wed, 29 Jan 2025) EndedAt: 2025-01-29 01:26:00 -0000 (Wed, 29 Jan 2025) EllapsedTime: 200.1 seconds RetCode: 0 Status: OK PackageFile: profileplyr_1.23.0.tar.gz PackageFileSize: 2.275 MiB