Package: profileScoreDist Version: 1.35.0 Command: E:\biocbuild\bbs-3.21-bioc\R\bin\R.exe CMD INSTALL profileScoreDist StartedAt: 2025-02-03 15:34:23 -0500 (Mon, 03 Feb 2025) EndedAt: 2025-02-03 15:35:19 -0500 (Mon, 03 Feb 2025) EllapsedTime: 56.2 seconds RetCode: 0 Status: OK