Package: profileScoreDist Version: 1.35.0 Command: E:\biocbuild\bbs-3.21-bioc\R\bin\R.exe CMD check --no-multiarch --install=check:profileScoreDist.install-out.txt --library=E:\biocbuild\bbs-3.21-bioc\R\library --no-vignettes --timings profileScoreDist_1.35.0.tar.gz StartedAt: 2025-02-04 04:43:05 -0500 (Tue, 04 Feb 2025) EndedAt: 2025-02-04 04:43:54 -0500 (Tue, 04 Feb 2025) EllapsedTime: 49.6 seconds RetCode: 0 Status: OK CheckDir: profileScoreDist.Rcheck Warnings: 0