Package: profileScoreDist Version: 1.35.0 Command: chmod a+r profileScoreDist -R && E:\biocbuild\bbs-3.21-bioc\R\bin\R.exe CMD build --keep-empty-dirs --no-resave-data profileScoreDist StartedAt: 2025-02-03 21:05:48 -0500 (Mon, 03 Feb 2025) EndedAt: 2025-02-03 21:06:42 -0500 (Mon, 03 Feb 2025) EllapsedTime: 54.6 seconds RetCode: 0 Status: OK PackageFile: profileScoreDist_1.35.0.tar.gz PackageFileSize: 188.6 KiB