Package: profileScoreDist Version: 1.35.0 Command: /home/biocbuild/bbs-3.21-bioc/R/bin/R CMD check --install=check:profileScoreDist.install-out.txt --library=/home/biocbuild/bbs-3.21-bioc/R/site-library --timings profileScoreDist_1.35.0.tar.gz StartedAt: 2025-02-06 01:32:12 -0500 (Thu, 06 Feb 2025) EndedAt: 2025-02-06 01:32:42 -0500 (Thu, 06 Feb 2025) EllapsedTime: 30.0 seconds RetCode: 0 Status: OK CheckDir: profileScoreDist.Rcheck Warnings: 0