Package: profileScoreDist Version: 1.35.0 Command: /Library/Frameworks/R.framework/Resources/bin/R CMD check --install=check:profileScoreDist.install-out.txt --library=/Library/Frameworks/R.framework/Resources/library --no-vignettes --timings profileScoreDist_1.35.0.tar.gz StartedAt: 2025-02-03 22:33:36 -0500 (Mon, 03 Feb 2025) EndedAt: 2025-02-03 22:34:09 -0500 (Mon, 03 Feb 2025) EllapsedTime: 33.1 seconds RetCode: 0 Status: OK CheckDir: profileScoreDist.Rcheck Warnings: 0