Package: profileScoreDist Version: 1.35.0 Command: /Library/Frameworks/R.framework/Resources/bin/R CMD build --keep-empty-dirs --no-resave-data profileScoreDist StartedAt: 2025-02-03 17:58:32 -0500 (Mon, 03 Feb 2025) EndedAt: 2025-02-03 17:58:52 -0500 (Mon, 03 Feb 2025) EllapsedTime: 20.6 seconds RetCode: 0 Status: OK PackageFile: profileScoreDist_1.35.0.tar.gz PackageFileSize: 187.8 KiB