Package: profileScoreDist Version: 1.35.0 Command: rm -rf profileScoreDist.buildbin-libdir && mkdir profileScoreDist.buildbin-libdir && /Users/biocbuild/BBS/utils/build-universal.sh profileScoreDist_1.35.0.tar.gz /Library/Frameworks/R.framework/Resources/bin/R profileScoreDist.buildbin-libdir StartedAt: 2025-02-04 00:49:23 -0500 (Tue, 04 Feb 2025) EndedAt: 2025-02-04 00:49:39 -0500 (Tue, 04 Feb 2025) EllapsedTime: 16.1 seconds RetCode: 0 Status: OK PackageFile: profileScoreDist_1.35.0.tgz PackageFileSize: 355.7 KiB