Package: profileScoreDist Version: 1.35.0 Command: /home/biocbuild/R/R/bin/R CMD INSTALL profileScoreDist StartedAt: 2025-01-29 19:31:06 -0000 (Wed, 29 Jan 2025) EndedAt: 2025-01-29 19:31:25 -0000 (Wed, 29 Jan 2025) EllapsedTime: 19.4 seconds RetCode: 0 Status: OK