Package: profileScoreDist Version: 1.35.0 Command: /home/biocbuild/R/R/bin/R CMD build --keep-empty-dirs --no-resave-data profileScoreDist StartedAt: 2025-01-29 01:22:55 -0000 (Wed, 29 Jan 2025) EndedAt: 2025-01-29 01:23:20 -0000 (Wed, 29 Jan 2025) EllapsedTime: 25.0 seconds RetCode: 0 Status: OK PackageFile: profileScoreDist_1.35.0.tar.gz PackageFileSize: 177.8 KiB