Package: proActiv Version: 1.17.0 Command: E:\biocbuild\bbs-3.21-bioc\R\bin\R.exe CMD INSTALL proActiv StartedAt: 2025-02-16 16:46:41 -0500 (Sun, 16 Feb 2025) EndedAt: 2025-02-16 16:48:06 -0500 (Sun, 16 Feb 2025) EllapsedTime: 84.8 seconds RetCode: 0 Status: OK