Package: proActiv Version: 1.17.0 Command: E:\biocbuild\bbs-3.21-bioc\R\bin\R.exe CMD check --no-multiarch --install=check:proActiv.install-out.txt --library=E:\biocbuild\bbs-3.21-bioc\R\library --no-vignettes --timings proActiv_1.17.0.tar.gz StartedAt: 2025-02-17 04:02:55 -0500 (Mon, 17 Feb 2025) EndedAt: 2025-02-17 04:09:57 -0500 (Mon, 17 Feb 2025) EllapsedTime: 422.4 seconds RetCode: 0 Status: OK CheckDir: proActiv.Rcheck Warnings: 0