Package: proActiv Version: 1.19.3 Command: /home/biocbuild/bbs-3.22-bioc/R/bin/R CMD build --keep-empty-dirs --no-resave-data --md5 proActiv StartedAt: 2025-09-29 19:39:48 -0400 (Mon, 29 Sep 2025) EndedAt: 2025-09-29 19:40:51 -0400 (Mon, 29 Sep 2025) EllapsedTime: 63.0 seconds RetCode: 0 Status: OK PackageFile: proActiv_1.19.3.tar.gz PackageFileSize: 2.67 MiB