Package: primirTSS Version: 1.27.0 Command: chmod a+r primirTSS -R && F:\biocbuild\bbs-3.22-bioc\R\bin\R.exe CMD build --keep-empty-dirs --no-resave-data primirTSS StartedAt: 2025-08-14 22:26:57 -0400 (Thu, 14 Aug 2025) EndedAt: 2025-08-14 22:28:49 -0400 (Thu, 14 Aug 2025) EllapsedTime: 111.4 seconds RetCode: 0 Status: OK PackageFile: primirTSS_1.27.0.tar.gz PackageFileSize: 3.663 MiB