Package: primirTSS Version: 1.25.0 Command: E:\biocbuild\bbs-3.21-bioc\R\bin\R.exe CMD INSTALL primirTSS StartedAt: 2025-02-03 16:58:10 -0500 (Mon, 03 Feb 2025) EndedAt: 2025-02-03 17:01:40 -0500 (Mon, 03 Feb 2025) EllapsedTime: 209.7 seconds RetCode: 0 Status: OK