Package: primirTSS Version: 1.25.0 Command: rm -rf primirTSS.buildbin-libdir && mkdir primirTSS.buildbin-libdir && E:\biocbuild\bbs-3.21-bioc\R\bin\R.exe CMD INSTALL --build --library=primirTSS.buildbin-libdir primirTSS_1.25.0.tar.gz StartedAt: 2025-02-04 08:37:45 -0500 (Tue, 04 Feb 2025) EndedAt: 2025-02-04 08:42:01 -0500 (Tue, 04 Feb 2025) EllapsedTime: 256.1 seconds RetCode: 0 Status: OK PackageFile: primirTSS_1.25.0.zip PackageFileSize: 3.777 MiB