Package: primirTSS Version: 1.25.0 Command: /home/biocbuild/bbs-3.21-bioc/R/bin/R CMD check --install=check:primirTSS.install-out.txt --library=/home/biocbuild/bbs-3.21-bioc/R/site-library --timings primirTSS_1.25.0.tar.gz StartedAt: 2025-02-04 01:34:08 -0500 (Tue, 04 Feb 2025) EndedAt: 2025-02-04 01:39:00 -0500 (Tue, 04 Feb 2025) EllapsedTime: 291.4 seconds RetCode: 0 Status: WARNINGS CheckDir: primirTSS.Rcheck Warnings: 2