Package: primirTSS Version: 1.25.0 Command: /home/biocbuild/bbs-3.21-bioc/R/bin/R CMD build --keep-empty-dirs --no-resave-data primirTSS StartedAt: 2025-02-05 18:43:00 -0500 (Wed, 05 Feb 2025) EndedAt: 2025-02-05 18:44:03 -0500 (Wed, 05 Feb 2025) EllapsedTime: 63.1 seconds RetCode: 0 Status: OK PackageFile: primirTSS_1.25.0.tar.gz PackageFileSize: 3.662 MiB