Package: primirTSS Version: 1.25.0 Command: /Library/Frameworks/R.framework/Resources/bin/R CMD INSTALL primirTSS StartedAt: 2025-02-03 15:34:06 -0500 (Mon, 03 Feb 2025) EndedAt: 2025-02-03 15:35:01 -0500 (Mon, 03 Feb 2025) EllapsedTime: 55.2 seconds RetCode: 0 Status: OK