Package: primirTSS Version: 1.27.0 Command: /Library/Frameworks/R.framework/Resources/bin/R CMD INSTALL primirTSS StartedAt: 2025-04-29 15:25:49 -0400 (Tue, 29 Apr 2025) EndedAt: 2025-04-29 15:26:07 -0400 (Tue, 29 Apr 2025) EllapsedTime: 17.9 seconds RetCode: 0 Status: OK