Package: preprocessCore Version: 1.69.0 Command: rm -rf preprocessCore.buildbin-libdir && mkdir preprocessCore.buildbin-libdir && E:\biocbuild\bbs-3.21-bioc\R\bin\R.exe CMD INSTALL --build --library=preprocessCore.buildbin-libdir preprocessCore_1.69.0.tar.gz StartedAt: 2025-02-03 07:57:36 -0500 (Mon, 03 Feb 2025) EndedAt: 2025-02-03 07:58:22 -0500 (Mon, 03 Feb 2025) EllapsedTime: 46.1 seconds RetCode: 0 Status: OK PackageFile: preprocessCore_1.69.0.zip PackageFileSize: 168.7 KiB