Package: preprocessCore Version: 1.71.2 Command: /home/biocbuild/bbs-3.22-bioc/R/bin/R CMD INSTALL preprocessCore StartedAt: 2025-07-24 15:17:23 -0400 (Thu, 24 Jul 2025) EndedAt: 2025-07-24 15:17:33 -0400 (Thu, 24 Jul 2025) EllapsedTime: 10.7 seconds RetCode: 0 Status: OK