Package: preciseTAD Version: 1.19.0 Command: /home/biocbuild/R/R/bin/R CMD INSTALL preciseTAD StartedAt: 2025-10-16 22:28:20 -0000 (Thu, 16 Oct 2025) EndedAt: 2025-10-16 22:29:17 -0000 (Thu, 16 Oct 2025) EllapsedTime: 57.7 seconds RetCode: 0 Status: OK