Package: preciseTAD Version: 1.19.0 Command: /home/biocbuild/R/R/bin/R CMD build --keep-empty-dirs --no-resave-data preciseTAD StartedAt: 2025-10-17 03:38:13 -0000 (Fri, 17 Oct 2025) EndedAt: 2025-10-17 03:42:47 -0000 (Fri, 17 Oct 2025) EllapsedTime: 274.1 seconds RetCode: 0 Status: OK PackageFile: preciseTAD_1.19.0.tar.gz PackageFileSize: 4.092 MiB