Package: preciseTAD Version: 1.19.0 Command: /Library/Frameworks/R.framework/Resources/bin/R CMD check --install=check:preciseTAD.install-out.txt --library=/Library/Frameworks/R.framework/Resources/library --no-vignettes --timings preciseTAD_1.19.0.tar.gz StartedAt: 2025-05-09 22:45:47 -0400 (Fri, 09 May 2025) EndedAt: 2025-05-09 22:58:01 -0400 (Fri, 09 May 2025) EllapsedTime: 734.5 seconds RetCode: 0 Status: OK CheckDir: preciseTAD.Rcheck Warnings: 0