Package: preciseTAD Version: 1.19.0 Command: /Library/Frameworks/R.framework/Resources/bin/R CMD build --keep-empty-dirs --no-resave-data preciseTAD StartedAt: 2025-05-09 18:03:23 -0400 (Fri, 09 May 2025) EndedAt: 2025-05-09 18:07:44 -0400 (Fri, 09 May 2025) EllapsedTime: 261.3 seconds RetCode: 0 Status: OK PackageFile: preciseTAD_1.19.0.tar.gz PackageFileSize: 4.071 MiB