Package: preciseTAD Version: 1.19.0 Command: rm -rf preciseTAD.buildbin-libdir && mkdir preciseTAD.buildbin-libdir && /Users/biocbuild/BBS/utils/build-universal.sh preciseTAD_1.19.0.tar.gz /Library/Frameworks/R.framework/Resources/bin/R preciseTAD.buildbin-libdir StartedAt: 2025-05-10 01:01:53 -0400 (Sat, 10 May 2025) EndedAt: 2025-05-10 01:03:01 -0400 (Sat, 10 May 2025) EllapsedTime: 68.2 seconds RetCode: 0 Status: OK PackageFile: preciseTAD_1.19.0.tgz PackageFileSize: 4.773 MiB