Package: preciseTAD Version: 1.19.0 Command: rm -rf preciseTAD.buildbin-libdir && mkdir preciseTAD.buildbin-libdir && /Users/biocbuild/BBS/utils/build-universal.sh preciseTAD_1.19.0.tar.gz /Library/Frameworks/R.framework/Resources/bin/R preciseTAD.buildbin-libdir StartedAt: 2025-05-09 22:51:54 -0400 (Fri, 09 May 2025) EndedAt: 2025-05-09 22:52:16 -0400 (Fri, 09 May 2025) EllapsedTime: 22.5 seconds RetCode: 0 Status: OK PackageFile: preciseTAD_1.19.0.tgz PackageFileSize: 4.774 MiB