Package: prebs Version: 1.49.1 Command: chmod a+r prebs -R && F:\biocbuild\bbs-3.22-bioc\R\bin\R.exe CMD build --keep-empty-dirs --no-resave-data prebs StartedAt: 2025-08-14 22:26:40 -0400 (Thu, 14 Aug 2025) EndedAt: 2025-08-14 22:30:30 -0400 (Thu, 14 Aug 2025) EllapsedTime: 230.5 seconds RetCode: 0 Status: OK PackageFile: prebs_1.49.1.tar.gz PackageFileSize: 145.4 KiB