Package: pram Version: 1.25.1 Command: chmod a+r pram -R && F:\biocbuild\bbs-3.22-bioc\R\bin\R.exe CMD build --keep-empty-dirs --no-resave-data pram StartedAt: 2025-08-14 22:26:33 -0400 (Thu, 14 Aug 2025) EndedAt: 2025-08-14 22:27:51 -0400 (Thu, 14 Aug 2025) EllapsedTime: 78.0 seconds RetCode: 0 Status: OK PackageFile: pram_1.25.1.tar.gz PackageFileSize: 2.666 MiB