Package: pram Version: 1.23.0 Command: /Library/Frameworks/R.framework/Resources/bin/R CMD INSTALL pram StartedAt: 2025-02-16 15:17:43 -0500 (Sun, 16 Feb 2025) EndedAt: 2025-02-16 15:18:24 -0500 (Sun, 16 Feb 2025) EllapsedTime: 41.9 seconds RetCode: 0 Status: OK