Package: pqsfinder Version: 2.25.0 Command: /home/biocbuild/R/R/bin/R CMD build --keep-empty-dirs --no-resave-data pqsfinder StartedAt: 2025-10-03 02:16:45 -0000 (Fri, 03 Oct 2025) EndedAt: 2025-10-03 02:16:50 -0000 (Fri, 03 Oct 2025) EllapsedTime: 5.0 seconds RetCode: 1 Status: ERROR PackageFile: None PackageFileSize: NA