Package: pqsfinder Version: 2.23.0 Command: chmod a+r pqsfinder -R && E:\biocbuild\bbs-3.21-bioc\R\bin\R.exe CMD build --keep-empty-dirs --no-resave-data pqsfinder StartedAt: 2025-02-03 21:04:09 -0500 (Mon, 03 Feb 2025) EndedAt: 2025-02-03 21:07:28 -0500 (Mon, 03 Feb 2025) EllapsedTime: 199.0 seconds RetCode: 0 Status: OK PackageFile: pqsfinder_2.23.0.tar.gz PackageFileSize: 327.3 KiB